BEGIN:VCALENDAR
VERSION:2.0
PRODID:-//Tukios.com/
BEGIN:VEVENT
UID:d9351856-7ba3-4a5b-9e4f-bbd96a4dac03@www.aguilarfuneralservices.com
DTSTAMP:20260423T030847Z
DTSTART:20260424T190000Z
DTEND:20260424T200000Z
SUMMARY:Memorial Service
DESCRIPTION:Services will conclude in the chapel.
URL:https://www.aguilarfuneralservices.com/obituaries/janet-latham
LOCATION: 912 TX HWY 37 South  Mount Vernon TX 75457
GEO:33.1587471;-95.2358811
END:VEVENT
END:VCALENDAR